BEGIN:VCALENDAR
VERSION:2.0
PRODID:-//Mermaid Medical - ECPv4.5.7//NONSGML v1.0//EN
CALSCALE:GREGORIAN
METHOD:PUBLISH
X-WR-CALNAME:Mermaid Medical
X-ORIGINAL-URL:http://www.mermaidmedical.dk
X-WR-CALDESC:Events for Mermaid Medical
BEGIN:VEVENT
DTSTART;VALUE=DATE:20170901
DTEND;VALUE=DATE:20170930
DTSTAMP:20170714T043325
CREATED:20170105T075439Z
LAST-MODIFIED:20170105T075439Z
UID:27315-1504224000-1506815999@www.mermaidmedical.dk
SUMMARY:Intervention Radiology meeting in Tonsberg
DESCRIPTION:Date to be continued… \n
URL:http://www.mermaidmedical.dk/event/intervention-radiology-meeting-in-tonsberg/
LOCATION:Tønsberg\, Norway
CATEGORIES:Conferences
ATTACH;FMTTYPE=image/jpeg:http://www.mermaidmedical.dk/wp-content/uploads/2017/01/Tonsberg_2327-565x377.jpg
END:VEVENT
BEGIN:VEVENT
DTSTART;VALUE=DATE:20170916
DTEND;VALUE=DATE:20170920
DTSTAMP:20170714T043325
CREATED:20161221T131056Z
LAST-MODIFIED:20161221T131255Z
UID:27278-1505520000-1505951999@www.mermaidmedical.dk
SUMMARY:CIRSE 2017
DESCRIPTION:For CIRSE 2017\, we will be heading north to the Danish capital of Copenhagen. Compact in size yet internationally well connected and bursting with culture\, contemporary art and culinary excellence\, the city is an ideal backdrop to deliver cutting-edge science from global IR experts. Our 32nd congress will take place in the magnificent Bella Center\, one of Scandinavia’s largest conference centres\, located centrally in the new part of Copenhagen\, Ørestad. It has its own metro stop on the M1 line\, which is just a few stations away from the airport and takes you directly to the city centre in less than 10 minutes. There are also many hotels in the immediate vicinity. \n
URL:http://www.mermaidmedical.dk/event/cirse-2017/
LOCATION:Center Blvd. 5\, København S\, 2300 \, Denmark
ATTACH;FMTTYPE=image/jpeg:http://www.mermaidmedical.dk/wp-content/uploads/2016/12/ac-hotel-bella-sky-copenhagen.jpg
END:VEVENT
BEGIN:VEVENT
DTSTART;VALUE=DATE:20171005
DTEND;VALUE=DATE:20171006
DTSTAMP:20170714T043325
CREATED:20170105T083534Z
LAST-MODIFIED:20170105T083534Z
UID:27337-1507161600-1507334399@www.mermaidmedical.dk
SUMMARY:NVGE congres
DESCRIPTION:Congress of the Dutch society for Gastro Enterology \n
URL:http://www.mermaidmedical.dk/event/nvge-congres-2/
LOCATION:Veldhoven\, Netherlands
CATEGORIES:Conferences
ATTACH;FMTTYPE=image/jpeg:http://www.mermaidmedical.dk/wp-content/uploads/2016/03/How-to-get-the-most-out-of-conferences.jpg
END:VEVENT
BEGIN:VEVENT
DTSTART;VALUE=DATE:20171010
DTEND;VALUE=DATE:20171010
DTSTAMP:20170714T043325
CREATED:20170105T083630Z
LAST-MODIFIED:20170105T083630Z
UID:27338-1507593600-1507679999@www.mermaidmedical.dk
SUMMARY:Echo dag van Marc
DESCRIPTION:Ultrasound congress for Radiology technicians \n
URL:http://www.mermaidmedical.dk/event/echo-dag-van-marc/
LOCATION:Ede\, Netherlands
CATEGORIES:Conferences
ATTACH;FMTTYPE=image/jpeg:http://www.mermaidmedical.dk/wp-content/uploads/2015/10/SERVEI2016-e1451902881805.jpg
END:VEVENT
BEGIN:VEVENT
DTSTART;VALUE=DATE:20171101
DTEND;VALUE=DATE:20171103
DTSTAMP:20170714T043325
CREATED:20161221T133022Z
LAST-MODIFIED:20161221T133102Z
UID:27286-1509494400-1509753599@www.mermaidmedical.dk
SUMMARY:BSIR 2017
DESCRIPTION:What is the BSIR?\n\nThe BSIR is a charitable foundation founded to promote and develop the practice of Interventional Radiology.\nWhat are the main objectives of the society?\n\nTo support and develop access to high quality information on Interventional Radiology for patients and all healthcare professionals.\nTo support audit and research in Interventional Radiology\nTo support education and training in Interventional Radiology\n\n\n
URL:http://www.mermaidmedical.dk/event/bsir-2017/
LOCATION:Broad St\, Birmingham\, \, B1 2EA\, United Kingdom
CATEGORIES:Conferences
ATTACH;FMTTYPE=image/jpeg:http://www.mermaidmedical.dk/wp-content/uploads/2016/12/icc-birmingham-edited-e1482326908495.jpg
END:VEVENT
BEGIN:VEVENT
DTSTART;VALUE=DATE:20171105
DTEND;VALUE=DATE:20171107
DTSTAMP:20170714T043325
CREATED:20170105T085559Z
LAST-MODIFIED:20170105T085559Z
UID:27341-1509840000-1510099199@www.mermaidmedical.dk
SUMMARY:BSBR
DESCRIPTION:Brisitsh Society of Breast Radiology annual meeting in Croke Park\, Dublin 2017. \n
URL:http://www.mermaidmedical.dk/event/bsbr/
LOCATION:Jones' Rd\, Dublin\, Ireland
CATEGORIES:Conferences
ATTACH;FMTTYPE=image/jpeg:http://www.mermaidmedical.dk/wp-content/uploads/2017/01/Dublin.jpg
END:VEVENT
BEGIN:VEVENT
DTSTART;VALUE=DATE:20171113
DTEND;VALUE=DATE:20171116
DTSTAMP:20170714T043325
CREATED:20161223T083159Z
LAST-MODIFIED:20161223T083220Z
UID:27289-1510531200-1510876799@www.mermaidmedical.dk
SUMMARY:MEDICA 2017
DESCRIPTION:\n\nMEDICA – 13 – 16 November 2017 in Düsseldorf – Be part of the No.1!\n\n\n\n\n\n\nMEDICA is the world’s largest event for the medical sector. For more than 40 years it has been firmly established on every expert’s calendar. There are many reasons why MEDICA is so unique. Firstly\, the event is the largest medical trade fair in the world – in 2016 it attracted more than 5\,100 exhibitors from 70 countries in 17 halls. Furthermore\, each year\, leading individuals from the fields of business\, research\, and politics grace this top-class event with their presence — naturally alongside tens of thousands of national and international experts and decision-makers from the sector\, such as yourself. An extensive exhibition and an ambitious program — which together present the entire spectrum of innovations for outpatient and clinical care — await you in Düsseldorf.\n\n\n\n\n  \n
URL:http://www.mermaidmedical.dk/event/medica-2017/
LOCATION:Düsseldorf\, Germany
CATEGORIES:Conferences
ATTACH;FMTTYPE=image/jpeg:http://www.mermaidmedical.dk/wp-content/uploads/2016/03/How-to-get-the-most-out-of-conferences.jpg
END:VEVENT
BEGIN:VEVENT
DTSTART;VALUE=DATE:20171115
DTEND;VALUE=DATE:20171116
DTSTAMP:20170714T043325
CREATED:20170105T083815Z
LAST-MODIFIED:20170105T083815Z
UID:27339-1510704000-1510876799@www.mermaidmedical.dk
SUMMARY:Sandwichcursus
DESCRIPTION:Radiology congress \n
URL:http://www.mermaidmedical.dk/event/sandwichcursus-5/
LOCATION:Ede\, Netherlands
CATEGORIES:Conferences
ATTACH;FMTTYPE=image/jpeg:http://www.mermaidmedical.dk/wp-content/uploads/2015/10/Sandwichcursus.jpg
END:VEVENT
BEGIN:VEVENT
DTSTART;VALUE=DATE:20171116
DTEND;VALUE=DATE:20171117
DTSTAMP:20170714T043325
CREATED:20170105T083933Z
LAST-MODIFIED:20170105T083933Z
UID:27340-1510790400-1510963199@www.mermaidmedical.dk
SUMMARY:Oncologie dagen
DESCRIPTION:Oncology congress \n
URL:http://www.mermaidmedical.dk/event/oncologie-dagen/
LOCATION:Ede\, Netherlands
CATEGORIES:Conferences
ATTACH;FMTTYPE=image/jpeg:http://www.mermaidmedical.dk/wp-content/uploads/2015/10/Dag-van-Marc-e1451902830383.jpg
END:VEVENT
BEGIN:VEVENT
DTSTART;VALUE=DATE:20171126
DTEND;VALUE=DATE:20171201
DTSTAMP:20170714T043325
CREATED:20160613T133245Z
LAST-MODIFIED:20170110T103249Z
UID:25357-1511654400-1512172799@www.mermaidmedical.dk
SUMMARY:RSNA 2017
DESCRIPTION:RSNA 2017 is a key event in the radiology industry\, attracting professionals from across the United States to participate in dynamic educational sessions\, lectures and networking events. Attendees to RSNA 2017 have the opportunity to earn CME credits by taking part in select sessions. \nThe annual meeting will also feature an extensive exhibit hall with top medical equipment vendors from around the world. \n
URL:http://www.mermaidmedical.dk/event/rsna-2017/
LOCATION:Chicago\, United States
CATEGORIES:Conferences
ATTACH;FMTTYPE=image/jpeg:http://www.mermaidmedical.dk/wp-content/uploads/2016/06/635944571695312436-32722296_Bean1.jpg
END:VEVENT
END:VCALENDAR